BEGIN:VCALENDAR
PRODID:-//EventGuide//NONSGML MetroManager 1.1//EN
VERSION:2.0
METHOD:PUBLISH
BEGIN:VEVENT
DTSTART:20261009T190000
UID:20260412T190000Z-tpa50786301@eventguide.com
DTSTAMP:20261009T142329Z
DESCRIPTION:Performing country music live\nTampa - St. Petersburg Metro Area\nTampa, FL \n727-562-4800
SUMMARY:Ty Myers & Benny G
LOCATION:Tampa - St. Petersburg Metro Area
END:VEVENT
END:VCALENDAR
