BEGIN:VCALENDAR
PRODID:-//EventGuide//NONSGML MetroManager 1.1//EN
VERSION:2.0
METHOD:PUBLISH
BEGIN:VEVENT
DTSTART:20260424T190000
UID:20260412T190000Z-tpa50786001@eventguide.com
DTSTAMP:20260424T142328Z
DESCRIPTION:Pop / rock performance\nTampa - St. Petersburg Metro Area\nTampa, FL \n727-562-4800
SUMMARY:SatchVai Band: Joe Satriani & Steve Vai & Animals As Leaders
LOCATION:Tampa - St. Petersburg Metro Area
END:VEVENT
END:VCALENDAR
