BEGIN:VCALENDAR
PRODID:-//EventGuide//NONSGML MetroManager 1.1//EN
VERSION:2.0
METHOD:PUBLISH
BEGIN:VEVENT
DTSTART:20261025T180000
UID:20260412T180000Z-tpa50785401@eventguide.com
DTSTAMP:20261025T142325Z
DESCRIPTION:Performing country music live\nTampa - St. Petersburg Metro Area\nTampa, FL \n727-562-4800
SUMMARY:Turnpike Troubadours, Muscadine Bloodline & Drayton Farley
LOCATION:Tampa - St. Petersburg Metro Area
END:VEVENT
END:VCALENDAR
