BEGIN:VCALENDAR
PRODID:-//EventGuide//NONSGML MetroManager 1.1//EN
VERSION:2.0
METHOD:PUBLISH
BEGIN:VEVENT
DTSTART:20260901T180000
UID:20260412T180000Z-tpa50785101@eventguide.com
DTSTAMP:20260901T142324Z
DESCRIPTION:Pop / rock performance\nTampa - St. Petersburg Metro Area\nTampa, FL \n727-562-4800
SUMMARY:Blues Traveler, Gin Blossoms & Spin Doctors
LOCATION:Tampa - St. Petersburg Metro Area
END:VEVENT
END:VCALENDAR
