BEGIN:VCALENDAR
PRODID:-//EventGuide//NONSGML MetroManager 1.1//EN
VERSION:2.0
METHOD:PUBLISH
BEGIN:VEVENT
DTSTART:20260922T200000
UID:20260412T200000Z-tpa50784901@eventguide.com
DTSTAMP:20260922T142323Z
DESCRIPTION:Live rock / metal music\nTampa - St. Petersburg Metro Area\nTampa, FL \n800-875-8662
SUMMARY:W.A.S.P. & KK's Priest
LOCATION:Tampa - St. Petersburg Metro Area
END:VEVENT
END:VCALENDAR
