BEGIN:VCALENDAR
PRODID:-//EventGuide//NONSGML MetroManager 1.1//EN
VERSION:2.0
METHOD:PUBLISH
BEGIN:VEVENT
DTSTART:20260519T190000
UID:20260412T190000Z-tpa50784601@eventguide.com
DTSTAMP:20260519T142322Z
DESCRIPTION:Religious concert performance\nTampa - St. Petersburg Metro Area\nTampa, FL \n800-875-8662
SUMMARY:The Parables Tour: Father Mike Schmitz
LOCATION:Tampa - St. Petersburg Metro Area
END:VEVENT
END:VCALENDAR
