BEGIN:VCALENDAR
PRODID:-//EventGuide//NONSGML MetroManager 1.1//EN
VERSION:2.0
METHOD:PUBLISH
BEGIN:VEVENT
DTSTART:20261211T193000
UID:20260412T193000Z-tpa50784401@eventguide.com
DTSTAMP:20261211T142322Z
DESCRIPTION:Classical concert\nTampa - St. Petersburg Metro Area\nTampa, FL \n800-875-8662
SUMMARY:Outlander In Concert
LOCATION:Tampa - St. Petersburg Metro Area
END:VEVENT
END:VCALENDAR
