BEGIN:VCALENDAR
PRODID:-//EventGuide//NONSGML MetroManager 1.1//EN
VERSION:2.0
METHOD:PUBLISH
BEGIN:VEVENT
DTSTART:20261113T200000
UID:20260412T200000Z-tpa50784301@eventguide.com
DTSTAMP:20261113T142321Z
DESCRIPTION:Film oriented event\nTampa - St. Petersburg Metro Area\nTampa, FL \n800-875-8662
SUMMARY:Jim Henson's Labyrinth - In Concert
LOCATION:Tampa - St. Petersburg Metro Area
END:VEVENT
END:VCALENDAR
