BEGIN:VCALENDAR
PRODID:-//EventGuide//NONSGML MetroManager 1.1//EN
VERSION:2.0
METHOD:PUBLISH
BEGIN:VEVENT
DTSTART:20260516T193000
UID:20260412T193000Z-tpa50784101@eventguide.com
DTSTAMP:20260516T142321Z
DESCRIPTION:Pop / rock performance\nTampa - St. Petersburg Metro Area\nTampa, FL \n800-875-8662
SUMMARY:Jason Mraz
LOCATION:Tampa - St. Petersburg Metro Area
END:VEVENT
END:VCALENDAR
