BEGIN:VCALENDAR
PRODID:-//EventGuide//NONSGML MetroManager 1.1//EN
VERSION:2.0
METHOD:PUBLISH
BEGIN:VEVENT
DTSTART:20261031T200000
UID:20260412T200000Z-tpa50784001@eventguide.com
DTSTAMP:20261031T142320Z
DESCRIPTION:Classical concert\nTampa - St. Petersburg Metro Area\nTampa, FL \n800-875-8662
SUMMARY:Ghostbusters in Concert
LOCATION:Tampa - St. Petersburg Metro Area
END:VEVENT
END:VCALENDAR
