BEGIN:VCALENDAR
PRODID:-//EventGuide//NONSGML MetroManager 1.1//EN
VERSION:2.0
METHOD:PUBLISH
BEGIN:VEVENT
DTSTART:20261107T200000
UID:20260412T200000Z-tpa50783901@eventguide.com
DTSTAMP:20261107T142320Z
DESCRIPTION:Lecture event\nTampa - St. Petersburg Metro Area\nTampa, FL \n800-875-8662
SUMMARY:Brian Kilmeade
LOCATION:Tampa - St. Petersburg Metro Area
END:VEVENT
END:VCALENDAR
