BEGIN:VCALENDAR
PRODID:-//EventGuide//NONSGML MetroManager 1.1//EN
VERSION:2.0
METHOD:PUBLISH
BEGIN:VEVENT
DTSTART:20261112T190000
UID:20260412T190000Z-tpa50783801@eventguide.com
DTSTAMP:20261112T142320Z
DESCRIPTION:Comedic performance live\nTampa - St. Petersburg Metro Area\nTampa, FL \n800-875-8662
SUMMARY:Brad Williams
LOCATION:Tampa - St. Petersburg Metro Area
END:VEVENT
END:VCALENDAR
