BEGIN:VCALENDAR
PRODID:-//EventGuide//NONSGML MetroManager 1.1//EN
VERSION:2.0
METHOD:PUBLISH
BEGIN:VEVENT
DTSTART:20261120T200000
UID:20260412T200000Z-tpa50783701@eventguide.com
DTSTAMP:20261120T142319Z
DESCRIPTION:Pop / rock performance\nTampa - St. Petersburg Metro Area\nTampa, FL \n800-875-8662
SUMMARY:Blue October
LOCATION:Tampa - St. Petersburg Metro Area
END:VEVENT
END:VCALENDAR
