BEGIN:VCALENDAR
PRODID:-//EventGuide//NONSGML MetroManager 1.1//EN
VERSION:2.0
METHOD:PUBLISH
BEGIN:VEVENT
DTSTART:20260508T193000
UID:20260412T193000Z-tpa50782801@eventguide.com
DTSTAMP:20260508T142316Z
DESCRIPTION:Comedic performance live\nTampa - St. Petersburg Metro Area\nTampa, FL \n727-791-7400
SUMMARY:Heroes Off Duty Comedy Tour
LOCATION:Tampa - St. Petersburg Metro Area
END:VEVENT
END:VCALENDAR
