BEGIN:VCALENDAR
PRODID:-//EventGuide//NONSGML MetroManager 1.1//EN
VERSION:2.0
METHOD:PUBLISH
BEGIN:VEVENT
DTSTART:20261024T200000
UID:20260412T200000Z-tpa50782701@eventguide.com
DTSTAMP:20261024T142315Z
DESCRIPTION:Lecture event\nTampa - St. Petersburg Metro Area\nTampa, FL \n727-791-7400
SUMMARY:Garrison Keillor & Erica Rhodes
LOCATION:Tampa - St. Petersburg Metro Area
END:VEVENT
END:VCALENDAR
