BEGIN:VCALENDAR
PRODID:-//EventGuide//NONSGML MetroManager 1.1//EN
VERSION:2.0
METHOD:PUBLISH
BEGIN:VEVENT
DTSTART:20260506T200000
UID:20260412T200000Z-tpa50782501@eventguide.com
DTSTAMP:20260506T142315Z
DESCRIPTION:Pop / rock performance\nTampa - St. Petersburg Metro Area\nTampa, FL \n727-791-7400
SUMMARY:Devon Allman's Blues Summit
LOCATION:Tampa - St. Petersburg Metro Area
END:VEVENT
END:VCALENDAR
