BEGIN:VCALENDAR
PRODID:-//EventGuide//NONSGML MetroManager 1.1//EN
VERSION:2.0
METHOD:PUBLISH
BEGIN:VEVENT
DTSTART:20260504T190000
UID:20260412T190000Z-tpa50781901@eventguide.com
DTSTAMP:20260504T142312Z
DESCRIPTION:Religious concert performance\nTampa - St. Petersburg Metro Area\nTampa, FL \n727-799-1618
SUMMARY:Tauren Wells
LOCATION:Tampa - St. Petersburg Metro Area
END:VEVENT
END:VCALENDAR
