BEGIN:VCALENDAR
PRODID:-//EventGuide//NONSGML MetroManager 1.1//EN
VERSION:2.0
METHOD:PUBLISH
BEGIN:VEVENT
DTSTART:20260508T190000
UID:20260412T190000Z-tpa50781801@eventguide.com
DTSTAMP:20260508T142312Z
DESCRIPTION:Religious concert performance\nTampa - St. Petersburg Metro Area\nTampa, FL \n352-796-3685
SUMMARY:Tauren Wells
LOCATION:Tampa - St. Petersburg Metro Area
END:VEVENT
END:VCALENDAR
