BEGIN:VCALENDAR
PRODID:-//EventGuide//NONSGML MetroManager 1.1//EN
VERSION:2.0
METHOD:PUBLISH
BEGIN:VEVENT
DTSTART:20260513T180000
UID:20260412T180000Z-tpa50753701@eventguide.com
DTSTAMP:20260513T142154Z
DESCRIPTION:Wrestling sport match\nTampa - St. Petersburg Metro Area\nTampa, FL \n813-447-1057
SUMMARY:Extreme Dwarfanators Wrestling
LOCATION:Tampa - St. Petersburg Metro Area
END:VEVENT
END:VCALENDAR
