BEGIN:VCALENDAR
PRODID:-//EventGuide//NONSGML MetroManager 1.1//EN
VERSION:2.0
METHOD:PUBLISH
BEGIN:VEVENT
DTSTART:20260628T193000
UID:20260412T193000Z-tpa50693101@eventguide.com
DTSTAMP:20260628T141927Z
DESCRIPTION:Performance of music from the 50's / 60's era\nTampa - St. Petersburg Metro Area\nTampa, FL \n727-791-7400
SUMMARY:Micky Dolenz
LOCATION:Tampa - St. Petersburg Metro Area
END:VEVENT
END:VCALENDAR
