BEGIN:VCALENDAR
PRODID:-//EventGuide//NONSGML MetroManager 1.1//EN
VERSION:2.0
METHOD:PUBLISH
BEGIN:VEVENT
DTSTART:20261120T190000
UID:20260412T190000Z-tpa50397801@eventguide.com
DTSTAMP:20261120T140849Z
DESCRIPTION:Comedic performance live\nTampa - St. Petersburg Metro Area\nTampa, FL \n813-864-4000
SUMMARY:Tommy Davidson
LOCATION:Tampa - St. Petersburg Metro Area
END:VEVENT
END:VCALENDAR
