BEGIN:VCALENDAR
PRODID:-//EventGuide//NONSGML MetroManager 1.1//EN
VERSION:2.0
METHOD:PUBLISH
BEGIN:VEVENT
DTSTART:20261122T180000
UID:20260412T180000Z-tpa50388101@eventguide.com
DTSTAMP:20261122T140815Z
DESCRIPTION:Comedic performance live\nTampa - St. Petersburg Metro Area\nTampa, FL \n813-864-4000
SUMMARY:Tony Baker
LOCATION:Tampa - St. Petersburg Metro Area
END:VEVENT
END:VCALENDAR
