BEGIN:VCALENDAR
PRODID:-//EventGuide//NONSGML MetroManager 1.1//EN
VERSION:2.0
METHOD:PUBLISH
BEGIN:VEVENT
DTSTART:20260522T200000
UID:20260412T200000Z-tpa50339701@eventguide.com
DTSTAMP:20260522T140609Z
DESCRIPTION:Comedic performance live\nTampa - St. Petersburg Metro Area\nTampa, FL \n727-791-7400
SUMMARY:Jim Breuer
LOCATION:Tampa - St. Petersburg Metro Area
END:VEVENT
END:VCALENDAR
