BEGIN:VCALENDAR
PRODID:-//EventGuide//NONSGML MetroManager 1.1//EN
VERSION:2.0
METHOD:PUBLISH
BEGIN:VEVENT
DTSTART:20260606T183000
UID:20260412T183000Z-tpa50254705@eventguide.com
DTSTAMP:20260606T140257Z
DESCRIPTION:Baseball sporting event\nTampa - St. Petersburg Metro Area\nTampa, FL \n813-875-7753
SUMMARY:Tampa Tarpons vs. Palm Beach Cardinals
LOCATION:Tampa - St. Petersburg Metro Area
END:VEVENT
END:VCALENDAR
