BEGIN:VCALENDAR
PRODID:-//EventGuide//NONSGML MetroManager 1.1//EN
VERSION:2.0
METHOD:PUBLISH
BEGIN:VEVENT
DTSTART:20260903T183000
UID:20260412T183000Z-tpa50254209@eventguide.com
DTSTAMP:20260903T140253Z
DESCRIPTION:Baseball sporting event\nTampa - St. Petersburg Metro Area\nTampa, FL \n813-875-7753
SUMMARY:Tampa Tarpons vs. Dunedin Blue Jays
LOCATION:Tampa - St. Petersburg Metro Area
END:VEVENT
END:VCALENDAR
