BEGIN:VCALENDAR
PRODID:-//EventGuide//NONSGML MetroManager 1.1//EN
VERSION:2.0
METHOD:PUBLISH
BEGIN:VEVENT
DTSTART:20260819T170000
UID:20260412T170000Z-tpa50254102@eventguide.com
DTSTAMP:20260819T140251Z
DESCRIPTION:Baseball sporting event\nTampa - St. Petersburg Metro Area\nTampa, FL \n813-875-7753
SUMMARY:Tampa Tarpons vs. Daytona Tortugas
LOCATION:Tampa - St. Petersburg Metro Area
END:VEVENT
END:VCALENDAR
