BEGIN:VCALENDAR
PRODID:-//EventGuide//NONSGML MetroManager 1.1//EN
VERSION:2.0
METHOD:PUBLISH
BEGIN:VEVENT
DTSTART:20261114T200000
UID:20260412T200000Z-tpa50193001@eventguide.com
DTSTAMP:20261114T135959Z
DESCRIPTION:Performing live\nTampa - St. Petersburg Metro Area\nTampa, FL \n727-892-5767
SUMMARY:UB40
LOCATION:Tampa - St. Petersburg Metro Area
END:VEVENT
END:VCALENDAR
