BEGIN:VCALENDAR
PRODID:-//EventGuide//NONSGML MetroManager 1.1//EN
VERSION:2.0
METHOD:PUBLISH
BEGIN:VEVENT
DTSTART:20260901T184000
UID:20260412T184000Z-tpa50129702@eventguide.com
DTSTAMP:20260901T135702Z
DESCRIPTION:MLB Baseball Game\nTampa - St. Petersburg Metro Area\nTampa, FL \n888-FAN-RAYS
SUMMARY:Rays Baseball
LOCATION:Tampa - St. Petersburg Metro Area
END:VEVENT
END:VCALENDAR
