BEGIN:VCALENDAR
PRODID:-//EventGuide//NONSGML MetroManager 1.1//EN
VERSION:2.0
METHOD:PUBLISH
BEGIN:VEVENT
DTSTART:20260814T191000
UID:20260412T191000Z-tpa50008004@eventguide.com
DTSTAMP:20260814T135022Z
DESCRIPTION:MLB Baseball Game\nTampa - St. Petersburg Metro Area\nTampa, FL \n888-FAN-RAYS
SUMMARY:Tampa Bay Rays vs. Baltimore Orioles
LOCATION:Tampa - St. Petersburg Metro Area
END:VEVENT
END:VCALENDAR
