BEGIN:VCALENDAR
PRODID:-//EventGuide//NONSGML MetroManager 1.1//EN
VERSION:2.0
METHOD:PUBLISH
BEGIN:VEVENT
DTSTART:20260606T200000
UID:20260409T200000Z-mlb50055501@eventguide.com
DTSTAMP:20260606T141520Z
DESCRIPTION:Classical concert\nMelbourne Metro Area\nMelbourne, FL \n321-242-2219
SUMMARY:Stewart Copeland
LOCATION:Melbourne Metro Area
END:VEVENT
END:VCALENDAR
