BEGIN:VCALENDAR
PRODID:-//EventGuide//NONSGML MetroManager 1.1//EN
VERSION:2.0
METHOD:PUBLISH
BEGIN:VEVENT
DTSTART:20260502T190000
DTEND:20260502T010000
UID:20260415T190000Z-sfo52016701@eventguide.com
DTSTAMP:20260502T141918Z
DESCRIPTION:Take in a little bit of that creative curative power. Welcome some of the best burlesque, variety, and circus performers in the Bay Area. Revel to the sounds...\nSan Francisco Metro Area\nSan Francisco, CA \n415-967-2227
SUMMARY:Flourish! A Journey Through the Garden of Earthly Delights
LOCATION:San Francisco Metro Area
END:VEVENT
END:VCALENDAR
