BEGIN:VCALENDAR
PRODID:-//EventGuide//NONSGML MetroManager 1.1//EN
VERSION:2.0
METHOD:PUBLISH
BEGIN:VEVENT
DTSTART:20260528T190000
UID:20260416T190000Z-phl51319701@eventguide.com
DTSTAMP:20260528T142028Z
DESCRIPTION:In 1832, a mother & daughter keep vigil at a grave by The AME Church in South Philadelphia. Today, at a summer camp on the same grounds, a new, yet not entirely...\nPhiladelphia Metro Area\nPhiladelphia, PA \n215-218-4022
SUMMARY:The Great Privation (How to Flip Ten Cents into a Dollar)
LOCATION:Philadelphia Metro Area
END:VEVENT
END:VCALENDAR
