BEGIN:VCALENDAR
PRODID:-//EventGuide//NONSGML MetroManager 1.1//EN
VERSION:2.0
METHOD:PUBLISH
BEGIN:VEVENT
DTSTART:20270423T200000
UID:20260407T200000Z-pbi50403404@eventguide.com
DTSTAMP:20270423T161614Z
DESCRIPTION:Musical theatrical performance\nPalm Beaches Metro Area\nWest Palm Beach, FL \n561-832-SHOW
SUMMARY:Hell's Kitchen The Musical
LOCATION:Palm Beaches Metro Area
END:VEVENT
END:VCALENDAR
