BEGIN:VCALENDAR
PRODID:-//EventGuide//NONSGML MetroManager 1.1//EN
VERSION:2.0
METHOD:PUBLISH
BEGIN:VEVENT
DTSTART:20270513T193000
UID:20260407T193000Z-pbi50402603@eventguide.com
DTSTAMP:20270513T161609Z
DESCRIPTION:Musical theatrical performance\nPalm Beaches Metro Area\nWest Palm Beach, FL \n561-832-SHOW
SUMMARY:Oh, Mary!
LOCATION:Palm Beaches Metro Area
END:VEVENT
END:VCALENDAR
