BEGIN:VCALENDAR
PRODID:-//EventGuide//NONSGML MetroManager 1.1//EN
VERSION:2.0
METHOD:PUBLISH
BEGIN:VEVENT
DTSTART:20260830T123000
UID:20260407T123000Z-pbi50261506@eventguide.com
DTSTAMP:20260830T161547Z
DESCRIPTION:Minor-league (AAA) baseball game\nPalm Beaches Metro Area\nWest Palm Beach, FL \n561-775-1818
SUMMARY:Jupiter Hammerheads vs. Tampa Tarpons
LOCATION:Palm Beaches Metro Area
END:VEVENT
END:VCALENDAR
