BEGIN:VCALENDAR
PRODID:-//EventGuide//NONSGML MetroManager 1.1//EN
VERSION:2.0
METHOD:PUBLISH
BEGIN:VEVENT
DTSTART:20270301T193000
UID:20260407T193000Z-pbi50136701@eventguide.com
DTSTAMP:20270301T161540Z
DESCRIPTION:With Joshua Bell - Mozart  Edgar & Piazzolla 
\nPalm Beaches Metro Area\nWest Palm Beach, FL \n561-832-SHOW
SUMMARY:St. Martin In The Fields
LOCATION:Palm Beaches Metro Area
END:VEVENT
END:VCALENDAR
