BEGIN:VCALENDAR
PRODID:-//EventGuide//NONSGML MetroManager 1.1//EN
VERSION:2.0
METHOD:PUBLISH
BEGIN:VEVENT
DTSTART:20260516T090000
DTEND:20260516T180000
UID:20260414T090000Z-mco51508901@eventguide.com
DTSTAMP:20260516T142313Z
DESCRIPTION:Celebrate the planet at the Central Florida Zoo's Party for the Planet! Meet conservation groups, enjoy keeper chats, explore gardens, and take home a native...\nOrlando Metro Area\nOrlando, FL \n407-323 4450
SUMMARY:Party for the Planet at the Central Florida Zoo
LOCATION:Orlando Metro Area
END:VEVENT
END:VCALENDAR
