BEGIN:VCALENDAR
PRODID:-//EventGuide//NONSGML MetroManager 1.1//EN
VERSION:2.0
METHOD:PUBLISH
BEGIN:VEVENT
DTSTART:20260814T200000
UID:20260414T200000Z-mco51508703@eventguide.com
DTSTAMP:20260814T142310Z
DESCRIPTION:Wrestling sport match\nOrlando Metro Area\nOrlando, FL \n407-397-0207
SUMMARY:CCW - Coastal Championship Wrestling
LOCATION:Orlando Metro Area
END:VEVENT
END:VCALENDAR
