BEGIN:VCALENDAR
PRODID:-//EventGuide//NONSGML MetroManager 1.1//EN
VERSION:2.0
METHOD:PUBLISH
BEGIN:VEVENT
DTSTART:20260605T190000
UID:20260414T190000Z-mco51508601@eventguide.com
DTSTAMP:20260605T142308Z
DESCRIPTION:Comedic performance live\nOrlando Metro Area\nOrlando, FL \n407-897-8130
SUMMARY:The Buddies Tour: Annie F. Downs & Eddie Kaufholz
LOCATION:Orlando Metro Area
END:VEVENT
END:VCALENDAR
