BEGIN:VCALENDAR
PRODID:-//EventGuide//NONSGML MetroManager 1.1//EN
VERSION:2.0
METHOD:PUBLISH
BEGIN:VEVENT
DTSTART:20260829T140000
UID:20260414T140000Z-mco51508501@eventguide.com
DTSTAMP:20260829T142306Z
DESCRIPTION:Latin music in concert\nOrlando Metro Area\nOrlando, FL \n352-383-8393
SUMMARY:Grupo Bronco
LOCATION:Orlando Metro Area
END:VEVENT
END:VCALENDAR
