BEGIN:VCALENDAR
PRODID:-//EventGuide//NONSGML MetroManager 1.1//EN
VERSION:2.0
METHOD:PUBLISH
BEGIN:VEVENT
DTSTART:20260517T140000
UID:20260414T140000Z-mco51508409@eventguide.com
DTSTAMP:20260517T142303Z
DESCRIPTION:Musical theatrical performance\nOrlando Metro Area\nOrlando, FL \n352-327-7287
SUMMARY:Going to a Place Where You Already Are
LOCATION:Orlando Metro Area
END:VEVENT
END:VCALENDAR
