BEGIN:VCALENDAR
PRODID:-//EventGuide//NONSGML MetroManager 1.1//EN
VERSION:2.0
METHOD:PUBLISH
BEGIN:VEVENT
DTSTART:20260516T190000
UID:20260414T190000Z-mco51508301@eventguide.com
DTSTAMP:20260516T142258Z
DESCRIPTION:Performing country music live\nOrlando Metro Area\nOrlando, FL \n352-787-5047
SUMMARY:Megan Woods
LOCATION:Orlando Metro Area
END:VEVENT
END:VCALENDAR
