BEGIN:VCALENDAR
PRODID:-//EventGuide//NONSGML MetroManager 1.1//EN
VERSION:2.0
METHOD:PUBLISH
BEGIN:VEVENT
DTSTART:20260425T170000
UID:20260414T170000Z-mco51508101@eventguide.com
DTSTAMP:20260425T142253Z
DESCRIPTION:Festival tour performance\nOrlando Metro Area\nOrlando, FL 
SUMMARY:Leesburg Bikefest: Everclear
LOCATION:Orlando Metro Area
END:VEVENT
END:VCALENDAR
