BEGIN:VCALENDAR
PRODID:-//EventGuide//NONSGML MetroManager 1.1//EN
VERSION:2.0
METHOD:PUBLISH
BEGIN:VEVENT
DTSTART:20261118T190000
UID:20260409T190000Z-mco51356601@eventguide.com
DTSTAMP:20261118T182619Z
DESCRIPTION:Live concert performance\nOrlando Metro Area\nOrlando, FL 
SUMMARY:Red Leather
LOCATION:Orlando Metro Area
END:VEVENT
END:VCALENDAR
