BEGIN:VCALENDAR
PRODID:-//EventGuide//NONSGML MetroManager 1.1//EN
VERSION:2.0
METHOD:PUBLISH
BEGIN:VEVENT
DTSTART:20260612T193000
UID:20260409T193000Z-mco51266801@eventguide.com
DTSTAMP:20260612T182616Z
DESCRIPTION:Pop / rock performance\nOrlando Metro Area\nOrlando, FL \n407-704-6103
SUMMARY:KBong & Johnny Cosmic
LOCATION:Orlando Metro Area
END:VEVENT
END:VCALENDAR
