BEGIN:VCALENDAR
PRODID:-//EventGuide//NONSGML MetroManager 1.1//EN
VERSION:2.0
METHOD:PUBLISH
BEGIN:VEVENT
DTSTART:20260501T200000
UID:20260409T200000Z-mco51006201@eventguide.com
DTSTAMP:20260501T182525Z
DESCRIPTION:Alternative music performance\nOrlando Metro Area\nOrlando, FL \n407-228-1220
SUMMARY:Purity Ring
LOCATION:Orlando Metro Area
END:VEVENT
END:VCALENDAR
