BEGIN:VCALENDAR
PRODID:-//EventGuide//NONSGML MetroManager 1.1//EN
VERSION:2.0
METHOD:PUBLISH
BEGIN:VEVENT
DTSTART:20270221T140000
UID:20260409T140000Z-mco50988606@eventguide.com
DTSTAMP:20270221T182523Z
DESCRIPTION:Rodeo sporting event\nOrlando Metro Area\nOrlando, FL 
SUMMARY:Silver Spurs Rodeo
LOCATION:Orlando Metro Area
END:VEVENT
END:VCALENDAR
