BEGIN:VCALENDAR
PRODID:-//EventGuide//NONSGML MetroManager 1.1//EN
VERSION:2.0
METHOD:PUBLISH
BEGIN:VEVENT
DTSTART:20270220T193000
UID:20260409T193000Z-mco50988605@eventguide.com
DTSTAMP:20270220T182523Z
DESCRIPTION:Rodeo sporting event\nOrlando Metro Area\nOrlando, FL 
SUMMARY:Silver Spurs Rodeo
LOCATION:Orlando Metro Area
END:VEVENT
END:VCALENDAR
