BEGIN:VCALENDAR
PRODID:-//EventGuide//NONSGML MetroManager 1.1//EN
VERSION:2.0
METHOD:PUBLISH
BEGIN:VEVENT
DTSTART:20260501T200000
UID:20260331T200000Z-jfk53839101@eventguide.com
DTSTAMP:20260501T125307Z
DESCRIPTION:Classical concert\nNew York Metro Area\nNew York, NY 10001\n212-247-7800
SUMMARY:Mahler Chamber Orchestra: Yuja Wang
LOCATION:New York Metro Area
END:VEVENT
END:VCALENDAR
