BEGIN:VCALENDAR
PRODID:-//EventGuide//NONSGML MetroManager 1.1//EN
VERSION:2.0
METHOD:PUBLISH
BEGIN:VEVENT
DTSTART:20270122T200000
UID:20260331T200000Z-jfk53799501@eventguide.com
DTSTAMP:20270122T125102Z
DESCRIPTION:Comedic performance live\nNew York Metro Area\nNew York, NY 10001\n347-889-5226
SUMMARY:TGIF Comedy
LOCATION:New York Metro Area
END:VEVENT
END:VCALENDAR
